BEGIN:VCALENDAR
VERSION:2.0
BEGIN:VTIMEZONE
TZID:Europe/Oslo
BEGIN:DAYLIGHT
TZOFFSETFROM:+0100
TZOFFSETTO:+0200
TZNAME:CEST
DTSTART:19700329T020000
RRULE:FREQ=YEARLY;INTERVAL=1;BYDAY=-1SU;BYMONTH=3
END:DAYLIGHT
BEGIN:STANDARD
TZOFFSETFROM:+0200
TZOFFSETTO:+0100
TZNAME:CET
DTSTART:19701025T030000
RRULE:FREQ=YEARLY;INTERVAL=1;BYDAY=-1SU;BYMONTH=10
END:STANDARD
END:VTIMEZONE
BEGIN:VEVENT
DTSTART;TZID=Europe/Oslo:20121003T091500
DTEND;TZID=Europe/Oslo:20121003T110000
SUMMARY:The Red Sufi
LOCATION:Bergen Resource Centre for International Development, Jekteviksbakken 31
DESCRIPTION:Professor Jürgen Wasi Frembgen talks about the "red" Sufi Lal Shahbaz Qalandar, the most popular Muslim saint and powerful icon in all of Pakistan.
PRIORITY:3
END:VEVENT
END:VCALENDAR