BEGIN:VCALENDAR
VERSION:2.0
BEGIN:VTIMEZONE
TZID:Europe/Oslo
BEGIN:DAYLIGHT
TZOFFSETFROM:+0100
TZOFFSETTO:+0200
TZNAME:CEST
DTSTART:19700329T020000
RRULE:FREQ=YEARLY;INTERVAL=1;BYDAY=-1SU;BYMONTH=3
END:DAYLIGHT
BEGIN:STANDARD
TZOFFSETFROM:+0200
TZOFFSETTO:+0100
TZNAME:CET
DTSTART:19701025T030000
RRULE:FREQ=YEARLY;INTERVAL=1;BYDAY=-1SU;BYMONTH=10
END:STANDARD
END:VTIMEZONE
BEGIN:VEVENT
DTSTART;TZID=Europe/Oslo:20160901T120000
DTEND;TZID=Europe/Oslo:20160901T120000
SUMMARY:U4 Proxy Challenge Competition 2016 – Call for proposals
LOCATION:
DESCRIPTION:The Proxy Challenge Competition was launched in 2013 to help aid donors better assess the results of anti-corruption efforts. In 2014, U4 ran the first edition of the challenge, and brought together a body of promising, bespoke proxy indicators.

In this second round we still aim to find the best proxy indicators that can track progress of anti-corruption reform initiatives. We need reliable, intuitive, accessible, and cost-effective assessment methods that are useful across country-contexts.
PRIORITY:3
END:VEVENT
END:VCALENDAR