BEGIN:VCALENDAR
VERSION:2.0
BEGIN:VTIMEZONE
TZID:Europe/Oslo
BEGIN:DAYLIGHT
TZOFFSETFROM:+0100
TZOFFSETTO:+0200
TZNAME:CEST
DTSTART:19700329T020000
RRULE:FREQ=YEARLY;INTERVAL=1;BYDAY=-1SU;BYMONTH=3
END:DAYLIGHT
BEGIN:STANDARD
TZOFFSETFROM:+0200
TZOFFSETTO:+0100
TZNAME:CET
DTSTART:19701025T030000
RRULE:FREQ=YEARLY;INTERVAL=1;BYDAY=-1SU;BYMONTH=10
END:STANDARD
END:VTIMEZONE
BEGIN:VEVENT
DTSTART;TZID=Europe/Oslo:20230911T150000
DTEND;TZID=Europe/Oslo:20230911T170000
SUMMARY:The effects of European migration policy in Africa and the Middle East
LOCATION:University of Manchester - Ken Kitchen Committee Room, John Owens Building, Old Quadrangle, Oxford Road, M13 9NR and online
DESCRIPTION:
PRIORITY:3
END:VEVENT
END:VCALENDAR