BEGIN:VCALENDAR
VERSION:2.0
BEGIN:VTIMEZONE
TZID:Europe/Oslo
BEGIN:DAYLIGHT
TZOFFSETFROM:+0100
TZOFFSETTO:+0200
TZNAME:CEST
DTSTART:19700329T020000
RRULE:FREQ=YEARLY;INTERVAL=1;BYDAY=-1SU;BYMONTH=3
END:DAYLIGHT
BEGIN:STANDARD
TZOFFSETFROM:+0200
TZOFFSETTO:+0100
TZNAME:CET
DTSTART:19701025T030000
RRULE:FREQ=YEARLY;INTERVAL=1;BYDAY=-1SU;BYMONTH=10
END:STANDARD
END:VTIMEZONE
BEGIN:VEVENT
DTSTART;TZID=Europe/Oslo:20231128T100000
DTEND;TZID=Europe/Oslo:20231128T110000
SUMMARY:Towards a Political Ecology of Security: Conservation, private military companies and tackling the illegal wildlife trade
LOCATION:CMI, Jekteviksbakken 31, 3rd floor meeting room
DESCRIPTION:
PRIORITY:3
END:VEVENT
END:VCALENDAR