BEGIN:VCALENDAR
VERSION:2.0
BEGIN:VTIMEZONE
TZID:Europe/Oslo
BEGIN:DAYLIGHT
TZOFFSETFROM:+0100
TZOFFSETTO:+0200
TZNAME:CEST
DTSTART:19700329T020000
RRULE:FREQ=YEARLY;INTERVAL=1;BYDAY=-1SU;BYMONTH=3
END:DAYLIGHT
BEGIN:STANDARD
TZOFFSETFROM:+0200
TZOFFSETTO:+0100
TZNAME:CET
DTSTART:19701025T030000
RRULE:FREQ=YEARLY;INTERVAL=1;BYDAY=-1SU;BYMONTH=10
END:STANDARD
END:VTIMEZONE
BEGIN:VEVENT
DTSTART;TZID=Europe/Oslo:20090925T000000
DTEND;TZID=Europe/Oslo:20090925T000000
SUMMARY:Ytringsfrihet og nye medier
LOCATION:
DESCRIPTION:Nye medier har bidratt til bredere deltakelse i det offentlige ordskiftet. Terskelen for å ytre seg er lavere, og de nye mediene kan dermed bidra til en demokratisering av det offentlige rommet for meningsutveksling. Jon Bing innleder om nye medier og konsekvenser for ytringsfrihet og personvern.
PRIORITY:3
END:VEVENT
END:VCALENDAR