BEGIN:VCALENDAR
VERSION:2.0
BEGIN:VTIMEZONE
TZID:Europe/Oslo
BEGIN:DAYLIGHT
TZOFFSETFROM:+0100
TZOFFSETTO:+0200
TZNAME:CEST
DTSTART:19700329T020000
RRULE:FREQ=YEARLY;INTERVAL=1;BYDAY=-1SU;BYMONTH=3
END:DAYLIGHT
BEGIN:STANDARD
TZOFFSETFROM:+0200
TZOFFSETTO:+0100
TZNAME:CET
DTSTART:19701025T030000
RRULE:FREQ=YEARLY;INTERVAL=1;BYDAY=-1SU;BYMONTH=10
END:STANDARD
END:VTIMEZONE
BEGIN:VEVENT
DTSTART;TZID=Europe/Oslo:20100101T000000
DTEND;TZID=Europe/Oslo:20100101T000000
SUMMARY:Fixing the Political Market Place
LOCATION:
DESCRIPTION:How can we make peace without functioning state institutions? The starting point of this lecture is that existing scholarly and policymaking approaches to fragile states have been premised on an analysis of what these countries are not, namely that they do not possess capable and autonomous state institutions that can manage political conflicts.
PRIORITY:3
END:VEVENT
END:VCALENDAR