BEGIN:VCALENDAR
VERSION:2.0
BEGIN:VTIMEZONE
TZID:Europe/Oslo
BEGIN:DAYLIGHT
TZOFFSETFROM:+0100
TZOFFSETTO:+0200
TZNAME:CEST
DTSTART:19700329T020000
RRULE:FREQ=YEARLY;INTERVAL=1;BYDAY=-1SU;BYMONTH=3
END:DAYLIGHT
BEGIN:STANDARD
TZOFFSETFROM:+0200
TZOFFSETTO:+0100
TZNAME:CET
DTSTART:19701025T030000
RRULE:FREQ=YEARLY;INTERVAL=1;BYDAY=-1SU;BYMONTH=10
END:STANDARD
END:VTIMEZONE
BEGIN:VEVENT
DTSTART;TZID=Europe/Oslo:20100323T000000
DTEND;TZID=Europe/Oslo:20100323T000000
SUMMARY:New Direction in the Development Cooperation with Africa?
LOCATION:
DESCRIPTION:The Danish Africa Commission recommends a refocused agenda for international development cooperation with Africa. Lars Engberg-Pedersen discusses the main recommendations from the report, then a panel with Kjell Harald Dalen from the Norwegian Foreign Ministry and researchers from CMI debates new directions in the development cooperation with Africa.
PRIORITY:3
END:VEVENT
END:VCALENDAR