BEGIN:VCALENDAR
VERSION:2.0
BEGIN:VTIMEZONE
TZID:Europe/Oslo
BEGIN:DAYLIGHT
TZOFFSETFROM:+0100
TZOFFSETTO:+0200
TZNAME:CEST
DTSTART:19700329T020000
RRULE:FREQ=YEARLY;INTERVAL=1;BYDAY=-1SU;BYMONTH=3
END:DAYLIGHT
BEGIN:STANDARD
TZOFFSETFROM:+0200
TZOFFSETTO:+0100
TZNAME:CET
DTSTART:19701025T030000
RRULE:FREQ=YEARLY;INTERVAL=1;BYDAY=-1SU;BYMONTH=10
END:STANDARD
END:VTIMEZONE
BEGIN:VEVENT
DTSTART;TZID=Europe/Oslo:20101020T000000
DTEND;TZID=Europe/Oslo:20101022T000000
SUMMARY:Focus days 2010: Afghanistan/Pakistan
LOCATION:
DESCRIPTION:Peter Marsden, Jonas Gahr Støre, Kai Eide, Kristian Berg Harpviken, Arne Strand, Orzala Ashraf Nehmat, Kaja Borchrevink, Elisabeth Eide, Laila Bokhari and others explore context, history and current challenges. Welcome to debates, book salons, seminars and discussions with experts on Afghanistan and Pakistan.
PRIORITY:3
END:VEVENT
END:VCALENDAR