BEGIN:VCALENDAR
VERSION:2.0
BEGIN:VTIMEZONE
TZID:Europe/Oslo
BEGIN:DAYLIGHT
TZOFFSETFROM:+0100
TZOFFSETTO:+0200
TZNAME:CEST
DTSTART:19700329T020000
RRULE:FREQ=YEARLY;INTERVAL=1;BYDAY=-1SU;BYMONTH=3
END:DAYLIGHT
BEGIN:STANDARD
TZOFFSETFROM:+0200
TZOFFSETTO:+0100
TZNAME:CET
DTSTART:19701025T030000
RRULE:FREQ=YEARLY;INTERVAL=1;BYDAY=-1SU;BYMONTH=10
END:STANDARD
END:VTIMEZONE
BEGIN:VEVENT
DTSTART;TZID=Europe/Oslo:20110412T130000
DTEND;TZID=Europe/Oslo:20110412T140000
SUMMARY:Krig og fred og sånn Afghanistan: Lærererfaringer fra Årstad
LOCATION:Bergen Ressurssenter for internasjonal utvikling
DESCRIPTION:Krig og fred og sånn Afghanistan er et undervisningsopplegg for videregående skoler utarbeidet av CMI. Vi ønsker å vekke forskningsinteresse og å øke kunnskap om forskningsverdenen. Kom og hør lærere fra Årstad videregående skole dele sine erfaringer med opplegget im sitt tverrfaglige prosjekt.
PRIORITY:3
END:VEVENT
END:VCALENDAR