BEGIN:VCALENDAR
VERSION:2.0
BEGIN:VTIMEZONE
TZID:Europe/Oslo
BEGIN:DAYLIGHT
TZOFFSETFROM:+0100
TZOFFSETTO:+0200
TZNAME:CEST
DTSTART:19700329T020000
RRULE:FREQ=YEARLY;INTERVAL=1;BYDAY=-1SU;BYMONTH=3
END:DAYLIGHT
BEGIN:STANDARD
TZOFFSETFROM:+0200
TZOFFSETTO:+0100
TZNAME:CET
DTSTART:19701025T030000
RRULE:FREQ=YEARLY;INTERVAL=1;BYDAY=-1SU;BYMONTH=10
END:STANDARD
END:VTIMEZONE
BEGIN:VEVENT
DTSTART;TZID=Europe/Oslo:20110428T140000
DTEND;TZID=Europe/Oslo:20110428T153000
SUMMARY:Elections and Democracy in Africa
LOCATION:Just Faaland's meeting room, 3rd floor (Jekteviksbakken 31)
DESCRIPTION:Lise Rakner, Helge Rønning and Lovise Aalen will presents results of their research project Elections and Democracy in Africa.
PRIORITY:3
END:VEVENT
END:VCALENDAR