BEGIN:VCALENDAR
VERSION:2.0
BEGIN:VTIMEZONE
TZID:Europe/Oslo
BEGIN:DAYLIGHT
TZOFFSETFROM:+0100
TZOFFSETTO:+0200
TZNAME:CEST
DTSTART:19700329T020000
RRULE:FREQ=YEARLY;INTERVAL=1;BYDAY=-1SU;BYMONTH=3
END:DAYLIGHT
BEGIN:STANDARD
TZOFFSETFROM:+0200
TZOFFSETTO:+0100
TZNAME:CET
DTSTART:19701025T030000
RRULE:FREQ=YEARLY;INTERVAL=1;BYDAY=-1SU;BYMONTH=10
END:STANDARD
END:VTIMEZONE
BEGIN:VEVENT
DTSTART;TZID=Europe/Oslo:20110627T141500
DTEND;TZID=Europe/Oslo:20110627T153000
SUMMARY:Mass Media under Fire: Making Sense of State Attacks on the Media in Sub-Saharan Africa
LOCATION:CMI, Just Faaland's meeting room, 3rd floor
DESCRIPTION:Peter Von Doepp examines the direct effects of elections, military interventions, constitutional referenda, and food crises on government interference with private media outlets.
PRIORITY:3
END:VEVENT
END:VCALENDAR