BEGIN:VCALENDAR
VERSION:2.0
BEGIN:VTIMEZONE
TZID:Europe/Oslo
BEGIN:DAYLIGHT
TZOFFSETFROM:+0100
TZOFFSETTO:+0200
TZNAME:CEST
DTSTART:19700329T020000
RRULE:FREQ=YEARLY;INTERVAL=1;BYDAY=-1SU;BYMONTH=3
END:DAYLIGHT
BEGIN:STANDARD
TZOFFSETFROM:+0200
TZOFFSETTO:+0100
TZNAME:CET
DTSTART:19701025T030000
RRULE:FREQ=YEARLY;INTERVAL=1;BYDAY=-1SU;BYMONTH=10
END:STANDARD
END:VTIMEZONE
BEGIN:VEVENT
DTSTART;TZID=Europe/Oslo:20111102T090000
DTEND;TZID=Europe/Oslo:20111102T120000
SUMMARY:The ethics of priority setting in global health
LOCATION:Bergen ressurssenter for Internasjonal utvikling, Jekteviksbakken 31
DESCRIPTION:Maternal and child health is prioritized in most countries. This leads us to give less priority to the treatment of chronic diseases in adults, such as AIDS. What is the basis for such priorities?
PRIORITY:3
END:VEVENT
END:VCALENDAR