BEGIN:VCALENDAR
VERSION:2.0
BEGIN:VTIMEZONE
TZID:Europe/Oslo
BEGIN:DAYLIGHT
TZOFFSETFROM:+0100
TZOFFSETTO:+0200
TZNAME:CEST
DTSTART:19700329T020000
RRULE:FREQ=YEARLY;INTERVAL=1;BYDAY=-1SU;BYMONTH=3
END:DAYLIGHT
BEGIN:STANDARD
TZOFFSETFROM:+0200
TZOFFSETTO:+0100
TZNAME:CET
DTSTART:19701025T030000
RRULE:FREQ=YEARLY;INTERVAL=1;BYDAY=-1SU;BYMONTH=10
END:STANDARD
END:VTIMEZONE
BEGIN:VEVENT
DTSTART;TZID=Europe/Oslo:20111122T000000
DTEND;TZID=Europe/Oslo:20111122T000000
SUMMARY:Afghanistan: Where did we go wrong?
LOCATION:Bergen Resource Centre for International Development, Jelkteviksbakken 31
DESCRIPTION:Two long-time analysts of the Afghan wars, Astri Suhrke and Jonathan Steele discuss their newly published books in conversation with Michael Alvarez. The event will be webcasted.
PRIORITY:3
END:VEVENT
END:VCALENDAR