BEGIN:VCALENDAR
VERSION:2.0
BEGIN:VTIMEZONE
TZID:Europe/Oslo
BEGIN:DAYLIGHT
TZOFFSETFROM:+0100
TZOFFSETTO:+0200
TZNAME:CEST
DTSTART:19700329T020000
RRULE:FREQ=YEARLY;INTERVAL=1;BYDAY=-1SU;BYMONTH=3
END:DAYLIGHT
BEGIN:STANDARD
TZOFFSETFROM:+0200
TZOFFSETTO:+0100
TZNAME:CET
DTSTART:19701025T030000
RRULE:FREQ=YEARLY;INTERVAL=1;BYDAY=-1SU;BYMONTH=10
END:STANDARD
END:VTIMEZONE
BEGIN:VEVENT
DTSTART;TZID=Europe/Oslo:20120419T091500
DTEND;TZID=Europe/Oslo:20120419T163000
SUMMARY:Bangladesh conference: New Context and New Challenges
LOCATION:Bergen Resource centre for International Development
DESCRIPTION:Reducing poverty and improving governance require evidence-based approaches that also pay attention to the political scope for reform.
PRIORITY:3
END:VEVENT
END:VCALENDAR